BEGIN:VCALENDAR
PRODID:-//Google Inc//Google Calendar 70.9054//EN
VERSION:2.0
CALSCALE:GREGORIAN
BEGIN:VEVENT
TRANSP:OPAQUE
X-APPLE-TRAVEL-ADVISORY-BEHAVIOR:AUTOMATIC
LOCATION:Kasteel Woerden
DTSTART:20260604T120000Z
DTEND:20260604T160000Z
URL;VALUE=URI:https://www.ncj.nl/agenda/de-kracht-van-de-jgz-werkconferentie-kansrijk-opgroeien-in-de-eerste-duizend-dagen/
SUMMARY:De kracht van de JGZ: werkconferentie kansrijk opgroeien in de eerste duizend dagen
DTSTAMP:20260420T163130Z
UID:69e654e2b76f5
END:VEVENT
END:VCALENDAR