BEGIN:VCALENDAR
PRODID:-//Google Inc//Google Calendar 70.9054//EN
VERSION:2.0
CALSCALE:GREGORIAN
BEGIN:VEVENT
TRANSP:OPAQUE
X-APPLE-TRAVEL-ADVISORY-BEHAVIOR:AUTOMATIC
LOCATION:Kantoor NCJ\, Utrecht
DTSTART:20260603T073000Z
DTEND:20260603T093000Z
URL;VALUE=URI:https://www.ncj.nl/agenda/workshop-het-belang-van-financiele-gezondheid/
SUMMARY:Workshop: het belang van financiële gezondheid
DTSTAMP:20260420T163553Z
UID:69e655e972c83
END:VEVENT
END:VCALENDAR