BEGIN:VCALENDAR
PRODID:-//Google Inc//Google Calendar 70.9054//EN
VERSION:2.0
CALSCALE:GREGORIAN
BEGIN:VEVENT
TRANSP:OPAQUE
X-APPLE-TRAVEL-ADVISORY-BEHAVIOR:AUTOMATIC
LOCATION:Neude Bibliotheek\, Utrecht
DTSTART:20260603T120000Z
DTEND:20260603T160000Z
URL;VALUE=URI:https://www.ncj.nl/agenda/doen-wat-werkt-voor-preventie-samen-werken-aan-een-gezonde-omgeving/
SUMMARY:Doen wat werkt voor preventie: samen werken aan een gezonde omgeving
DTSTAMP:20260420T162936Z
UID:69e6547022a51
END:VEVENT
END:VCALENDAR