BEGIN:VCALENDAR
PRODID:-//Google Inc//Google Calendar 70.9054//EN
VERSION:2.0
CALSCALE:GREGORIAN
BEGIN:VEVENT
TRANSP:OPAQUE
X-APPLE-TRAVEL-ADVISORY-BEHAVIOR:AUTOMATIC
LOCATION:Online 
DTSTART:20260602T140000Z
DTEND:20260602T150000Z
URL;VALUE=URI:https://www.ncj.nl/agenda/webinar-juridisch-toolkit/
SUMMARY:Webinar juridisch toolkit
DTSTAMP:20260419T125702Z
UID:69e4d11e6ed55
END:VEVENT
END:VCALENDAR