BEGIN:VCALENDAR
PRODID:-//Google Inc//Google Calendar 70.9054//EN
VERSION:2.0
CALSCALE:GREGORIAN
BEGIN:VEVENT
TRANSP:OPAQUE
X-APPLE-TRAVEL-ADVISORY-BEHAVIOR:AUTOMATIC
LOCATION:NCJ\, Churchillaan 11\, Utrecht
DTSTART:20241105T080000Z
DTEND:20241105T153000Z
URL;VALUE=URI:https://www.ncj.nl/agenda/netwerkbijeenkomst-voor-centrale-zorgverleners-kngg/
SUMMARY:Netwerkbijeenkomst voor Centrale Zorgverleners KnGG
DTSTAMP:20260419T143339Z
UID:69e4e7c3e6d59
END:VEVENT
END:VCALENDAR