BEGIN:VCALENDAR
PRODID:-//Google Inc//Google Calendar 70.9054//EN
VERSION:2.0
CALSCALE:GREGORIAN
BEGIN:VEVENT
TRANSP:OPAQUE
X-APPLE-TRAVEL-ADVISORY-BEHAVIOR:AUTOMATIC
LOCATION:Online
DTSTART:20230912T130000Z
DTEND:20230912T141500Z
URL;VALUE=URI:https://www.ncj.nl/agenda/landelijk-netwerk-geletterdheid/
SUMMARY:Landelijk Netwerk Geletterdheid
DTSTAMP:20260419T125134Z
UID:69e4cfd6e0377
END:VEVENT
END:VCALENDAR