BEGIN:VCALENDAR
PRODID:-//Google Inc//Google Calendar 70.9054//EN
VERSION:2.0
CALSCALE:GREGORIAN
BEGIN:VEVENT
TRANSP:OPAQUE
X-APPLE-TRAVEL-ADVISORY-BEHAVIOR:AUTOMATIC
LOCATION:Online
DTSTART:20230918T120000Z
DTEND:20230918T140000Z
URL;VALUE=URI:https://www.ncj.nl/agenda/bijeenkomst-aandachtsfunctionarissen-aanpak-armoede/
SUMMARY:Bijeenkomst Aandachtsfunctionarissen Aanpak Armoede
DTSTAMP:20260419T130637Z
UID:69e4d35d00652
END:VEVENT
END:VCALENDAR