BEGIN:VCALENDAR
PRODID:-//Google Inc//Google Calendar 70.9054//EN
VERSION:2.0
CALSCALE:GREGORIAN
BEGIN:VEVENT
TRANSP:OPAQUE
X-APPLE-TRAVEL-ADVISORY-BEHAVIOR:AUTOMATIC
LOCATION:Online
DTSTART:20230525T070000Z
DTEND:20230525T080000Z
URL;VALUE=URI:https://www.ncj.nl/agenda/ontbijtsessie-spiegel-van-de-samenleving/
SUMMARY:Ontbijtsessie &#8216\;Spiegel van de samenleving&#8217\;
DTSTAMP:20260419T144814Z
UID:69e4eb2ee18d2
END:VEVENT
END:VCALENDAR