BEGIN:VCALENDAR
PRODID:-//Google Inc//Google Calendar 70.9054//EN
VERSION:2.0
CALSCALE:GREGORIAN
BEGIN:VEVENT
TRANSP:OPAQUE
X-APPLE-TRAVEL-ADVISORY-BEHAVIOR:AUTOMATIC
LOCATION:Volgt zsm
DTSTART:20230202T080000Z
DTEND:20230202T160000Z
URL;VALUE=URI:https://www.ncj.nl/agenda/informatiestandaard-volwassenen-jgz/
SUMMARY:Informatiestandaard Volwassenen JGZ
DTSTAMP:20260419T131128Z
UID:69e4d48068a89
END:VEVENT
END:VCALENDAR