BEGIN:VCALENDAR
PRODID:-//Google Inc//Google Calendar 70.9054//EN
VERSION:2.0
CALSCALE:GREGORIAN
BEGIN:VEVENT
TRANSP:OPAQUE
X-APPLE-TRAVEL-ADVISORY-BEHAVIOR:AUTOMATIC
LOCATION:Online
DTSTART:20221123T080000Z
DTEND:20221123T153000Z
URL;VALUE=URI:https://www.ncj.nl/agenda/innovatieatelier-2/
SUMMARY:Innovatieatelier
DTSTAMP:20260419T144912Z
UID:69e4eb6879888
END:VEVENT
END:VCALENDAR